BEGIN:VCALENDAR
VERSION:2.0
PRODID:-//Tukios.com/
BEGIN:VEVENT
UID:dde0b8ba-f968-444c-9c82-1c5c891f6b92@www.eichholtzdaring.com
DTSTAMP:20260424T220837Z
DTSTART:20260428T170000Z
DTEND:20260428T180000Z
SUMMARY:Funeral Service
DESCRIPTION:
URL:https://www.eichholtzdaring.com/obituaries/rick-marmon
LOCATION:Eichholtz & Daring Funeral Home & Cremation Center 321 N Main 
	Street  Bellefontaine OH 43311
GEO:40.3648415;-83.7597954
END:VEVENT
END:VCALENDAR