BEGIN:VCALENDAR
VERSION:2.0
PRODID:-//Tukios.com/
BEGIN:VEVENT
UID:42e9e8b6-cbac-4b5c-aa6d-50019ce715ed@www.eichholtzdaring.com
DTSTAMP:20260424T220604Z
DTSTART:20260428T150000Z
DTEND:20260428T170000Z
SUMMARY:Visitation
DESCRIPTION:
URL:https://www.eichholtzdaring.com/obituaries/rick-marmon
LOCATION:Eichholtz & Daring Funeral Home & Cremation Center 321 N Main 
	Street  Bellefontaine OH 43311
GEO:40.3648415;-83.7597954
END:VEVENT
END:VCALENDAR