BEGIN:VCALENDAR
VERSION:2.0
PRODID:-//Tukios.com/
BEGIN:VEVENT
UID:a478ccf8-e7e6-4f5e-a320-d4612727dcb6@www.eichholtzdaring.com
DTSTAMP:20260421T194513Z
DTSTART:20260427T150000Z
DTEND:20260427T153000Z
SUMMARY:Public Graveside
DESCRIPTION:
URL:https://www.eichholtzdaring.com/obituaries/lucille-post
LOCATION:Highland Memorial Cemetery 5591 US 68 South  West Liberty OH 
	43357
GEO:40.2828326;-83.7605309
END:VEVENT
END:VCALENDAR